BEGIN:VCALENDAR
VERSION:2.0
PRODID:-//PioneerCare - ECPv6.15.20//NONSGML v1.0//EN
CALSCALE:GREGORIAN
METHOD:PUBLISH
X-WR-CALNAME:PioneerCare
X-ORIGINAL-URL:https://www.pioneercare.org
X-WR-CALDESC:Events for PioneerCare
REFRESH-INTERVAL;VALUE=DURATION:PT1H
X-Robots-Tag:noindex
X-PUBLISHED-TTL:PT1H
BEGIN:VTIMEZONE
TZID:America/Chicago
BEGIN:DAYLIGHT
TZOFFSETFROM:-0600
TZOFFSETTO:-0500
TZNAME:CDT
DTSTART:20250309T080000
END:DAYLIGHT
BEGIN:STANDARD
TZOFFSETFROM:-0500
TZOFFSETTO:-0600
TZNAME:CST
DTSTART:20251102T070000
END:STANDARD
BEGIN:DAYLIGHT
TZOFFSETFROM:-0600
TZOFFSETTO:-0500
TZNAME:CDT
DTSTART:20260308T080000
END:DAYLIGHT
BEGIN:STANDARD
TZOFFSETFROM:-0500
TZOFFSETTO:-0600
TZNAME:CST
DTSTART:20261101T070000
END:STANDARD
BEGIN:DAYLIGHT
TZOFFSETFROM:-0600
TZOFFSETTO:-0500
TZNAME:CDT
DTSTART:20270314T080000
END:DAYLIGHT
BEGIN:STANDARD
TZOFFSETFROM:-0500
TZOFFSETTO:-0600
TZNAME:CST
DTSTART:20271107T070000
END:STANDARD
END:VTIMEZONE
BEGIN:VEVENT
DTSTART;TZID=America/Chicago:20260429T180000
DTEND;TZID=America/Chicago:20260429T190000
DTSTAMP:20260423T050741
CREATED:20180717T212915Z
LAST-MODIFIED:20181101T212512Z
UID:10009447-1777485600-1777489200@www.pioneercare.org
SUMMARY:Pokeno (AL)
DESCRIPTION:Cynthia leads after-dinner games each Wednesday evening in the Autumn Lake Household. All residents are welcome.
URL:https://www.pioneercare.org/event/games-w-cynthia-al/2026-04-29/
LOCATION:Autumn Lake\, 1131 Mabelle Avenue S\, Fergus Falls\, MN\, 56537\, United States
END:VEVENT
BEGIN:VEVENT
DTSTART;TZID=America/Chicago:20260506T180000
DTEND;TZID=America/Chicago:20260506T190000
DTSTAMP:20260423T050741
CREATED:20180717T212915Z
LAST-MODIFIED:20181101T212512Z
UID:10009448-1778090400-1778094000@www.pioneercare.org
SUMMARY:Pokeno (AL)
DESCRIPTION:Cynthia leads after-dinner games each Wednesday evening in the Autumn Lake Household. All residents are welcome.
URL:https://www.pioneercare.org/event/games-w-cynthia-al/2026-05-06/
LOCATION:Autumn Lake\, 1131 Mabelle Avenue S\, Fergus Falls\, MN\, 56537\, United States
END:VEVENT
BEGIN:VEVENT
DTSTART;TZID=America/Chicago:20260513T180000
DTEND;TZID=America/Chicago:20260513T190000
DTSTAMP:20260423T050741
CREATED:20180717T212915Z
LAST-MODIFIED:20181101T212512Z
UID:10009449-1778695200-1778698800@www.pioneercare.org
SUMMARY:Pokeno (AL)
DESCRIPTION:Cynthia leads after-dinner games each Wednesday evening in the Autumn Lake Household. All residents are welcome.
URL:https://www.pioneercare.org/event/games-w-cynthia-al/2026-05-13/
LOCATION:Autumn Lake\, 1131 Mabelle Avenue S\, Fergus Falls\, MN\, 56537\, United States
END:VEVENT
BEGIN:VEVENT
DTSTART;TZID=America/Chicago:20260520T180000
DTEND;TZID=America/Chicago:20260520T190000
DTSTAMP:20260423T050741
CREATED:20180717T212915Z
LAST-MODIFIED:20181101T212512Z
UID:10009450-1779300000-1779303600@www.pioneercare.org
SUMMARY:Pokeno (AL)
DESCRIPTION:Cynthia leads after-dinner games each Wednesday evening in the Autumn Lake Household. All residents are welcome.
URL:https://www.pioneercare.org/event/games-w-cynthia-al/2026-05-20/
LOCATION:Autumn Lake\, 1131 Mabelle Avenue S\, Fergus Falls\, MN\, 56537\, United States
END:VEVENT
BEGIN:VEVENT
DTSTART;TZID=America/Chicago:20260527T180000
DTEND;TZID=America/Chicago:20260527T190000
DTSTAMP:20260423T050741
CREATED:20180717T212915Z
LAST-MODIFIED:20181101T212512Z
UID:10009451-1779904800-1779908400@www.pioneercare.org
SUMMARY:Pokeno (AL)
DESCRIPTION:Cynthia leads after-dinner games each Wednesday evening in the Autumn Lake Household. All residents are welcome.
URL:https://www.pioneercare.org/event/games-w-cynthia-al/2026-05-27/
LOCATION:Autumn Lake\, 1131 Mabelle Avenue S\, Fergus Falls\, MN\, 56537\, United States
END:VEVENT
BEGIN:VEVENT
DTSTART;TZID=America/Chicago:20260603T180000
DTEND;TZID=America/Chicago:20260603T190000
DTSTAMP:20260423T050741
CREATED:20180717T212915Z
LAST-MODIFIED:20181101T212512Z
UID:10009452-1780509600-1780513200@www.pioneercare.org
SUMMARY:Pokeno (AL)
DESCRIPTION:Cynthia leads after-dinner games each Wednesday evening in the Autumn Lake Household. All residents are welcome.
URL:https://www.pioneercare.org/event/games-w-cynthia-al/2026-06-03/
LOCATION:Autumn Lake\, 1131 Mabelle Avenue S\, Fergus Falls\, MN\, 56537\, United States
END:VEVENT
BEGIN:VEVENT
DTSTART;TZID=America/Chicago:20260610T180000
DTEND;TZID=America/Chicago:20260610T190000
DTSTAMP:20260423T050741
CREATED:20180717T212915Z
LAST-MODIFIED:20181101T212512Z
UID:10009453-1781114400-1781118000@www.pioneercare.org
SUMMARY:Pokeno (AL)
DESCRIPTION:Cynthia leads after-dinner games each Wednesday evening in the Autumn Lake Household. All residents are welcome.
URL:https://www.pioneercare.org/event/games-w-cynthia-al/2026-06-10/
LOCATION:Autumn Lake\, 1131 Mabelle Avenue S\, Fergus Falls\, MN\, 56537\, United States
END:VEVENT
BEGIN:VEVENT
DTSTART;TZID=America/Chicago:20260617T180000
DTEND;TZID=America/Chicago:20260617T190000
DTSTAMP:20260423T050741
CREATED:20180717T212915Z
LAST-MODIFIED:20181101T212512Z
UID:10009454-1781719200-1781722800@www.pioneercare.org
SUMMARY:Pokeno (AL)
DESCRIPTION:Cynthia leads after-dinner games each Wednesday evening in the Autumn Lake Household. All residents are welcome.
URL:https://www.pioneercare.org/event/games-w-cynthia-al/2026-06-17/
LOCATION:Autumn Lake\, 1131 Mabelle Avenue S\, Fergus Falls\, MN\, 56537\, United States
END:VEVENT
BEGIN:VEVENT
DTSTART;TZID=America/Chicago:20260624T180000
DTEND;TZID=America/Chicago:20260624T190000
DTSTAMP:20260423T050741
CREATED:20180717T212915Z
LAST-MODIFIED:20181101T212512Z
UID:10009455-1782324000-1782327600@www.pioneercare.org
SUMMARY:Pokeno (AL)
DESCRIPTION:Cynthia leads after-dinner games each Wednesday evening in the Autumn Lake Household. All residents are welcome.
URL:https://www.pioneercare.org/event/games-w-cynthia-al/2026-06-24/
LOCATION:Autumn Lake\, 1131 Mabelle Avenue S\, Fergus Falls\, MN\, 56537\, United States
END:VEVENT
BEGIN:VEVENT
DTSTART;TZID=America/Chicago:20260701T180000
DTEND;TZID=America/Chicago:20260701T190000
DTSTAMP:20260423T050741
CREATED:20180717T212915Z
LAST-MODIFIED:20181101T212512Z
UID:10009456-1782928800-1782932400@www.pioneercare.org
SUMMARY:Pokeno (AL)
DESCRIPTION:Cynthia leads after-dinner games each Wednesday evening in the Autumn Lake Household. All residents are welcome.
URL:https://www.pioneercare.org/event/games-w-cynthia-al/2026-07-01/
LOCATION:Autumn Lake\, 1131 Mabelle Avenue S\, Fergus Falls\, MN\, 56537\, United States
END:VEVENT
BEGIN:VEVENT
DTSTART;TZID=America/Chicago:20260708T180000
DTEND;TZID=America/Chicago:20260708T190000
DTSTAMP:20260423T050741
CREATED:20180717T212915Z
LAST-MODIFIED:20181101T212512Z
UID:10009457-1783533600-1783537200@www.pioneercare.org
SUMMARY:Pokeno (AL)
DESCRIPTION:Cynthia leads after-dinner games each Wednesday evening in the Autumn Lake Household. All residents are welcome.
URL:https://www.pioneercare.org/event/games-w-cynthia-al/2026-07-08/
LOCATION:Autumn Lake\, 1131 Mabelle Avenue S\, Fergus Falls\, MN\, 56537\, United States
END:VEVENT
BEGIN:VEVENT
DTSTART;TZID=America/Chicago:20260715T180000
DTEND;TZID=America/Chicago:20260715T190000
DTSTAMP:20260423T050741
CREATED:20180717T212915Z
LAST-MODIFIED:20181101T212512Z
UID:10009458-1784138400-1784142000@www.pioneercare.org
SUMMARY:Pokeno (AL)
DESCRIPTION:Cynthia leads after-dinner games each Wednesday evening in the Autumn Lake Household. All residents are welcome.
URL:https://www.pioneercare.org/event/games-w-cynthia-al/2026-07-15/
LOCATION:Autumn Lake\, 1131 Mabelle Avenue S\, Fergus Falls\, MN\, 56537\, United States
END:VEVENT
BEGIN:VEVENT
DTSTART;TZID=America/Chicago:20260722T180000
DTEND;TZID=America/Chicago:20260722T190000
DTSTAMP:20260423T050741
CREATED:20180717T212915Z
LAST-MODIFIED:20181101T212512Z
UID:10009459-1784743200-1784746800@www.pioneercare.org
SUMMARY:Pokeno (AL)
DESCRIPTION:Cynthia leads after-dinner games each Wednesday evening in the Autumn Lake Household. All residents are welcome.
URL:https://www.pioneercare.org/event/games-w-cynthia-al/2026-07-22/
LOCATION:Autumn Lake\, 1131 Mabelle Avenue S\, Fergus Falls\, MN\, 56537\, United States
END:VEVENT
BEGIN:VEVENT
DTSTART;TZID=America/Chicago:20260729T180000
DTEND;TZID=America/Chicago:20260729T190000
DTSTAMP:20260423T050741
CREATED:20180717T212915Z
LAST-MODIFIED:20181101T212512Z
UID:10009460-1785348000-1785351600@www.pioneercare.org
SUMMARY:Pokeno (AL)
DESCRIPTION:Cynthia leads after-dinner games each Wednesday evening in the Autumn Lake Household. All residents are welcome.
URL:https://www.pioneercare.org/event/games-w-cynthia-al/2026-07-29/
LOCATION:Autumn Lake\, 1131 Mabelle Avenue S\, Fergus Falls\, MN\, 56537\, United States
END:VEVENT
BEGIN:VEVENT
DTSTART;TZID=America/Chicago:20260805T180000
DTEND;TZID=America/Chicago:20260805T190000
DTSTAMP:20260423T050741
CREATED:20180717T212915Z
LAST-MODIFIED:20181101T212512Z
UID:10009461-1785952800-1785956400@www.pioneercare.org
SUMMARY:Pokeno (AL)
DESCRIPTION:Cynthia leads after-dinner games each Wednesday evening in the Autumn Lake Household. All residents are welcome.
URL:https://www.pioneercare.org/event/games-w-cynthia-al/2026-08-05/
LOCATION:Autumn Lake\, 1131 Mabelle Avenue S\, Fergus Falls\, MN\, 56537\, United States
END:VEVENT
BEGIN:VEVENT
DTSTART;TZID=America/Chicago:20260812T180000
DTEND;TZID=America/Chicago:20260812T190000
DTSTAMP:20260423T050741
CREATED:20180717T212915Z
LAST-MODIFIED:20181101T212512Z
UID:10009462-1786557600-1786561200@www.pioneercare.org
SUMMARY:Pokeno (AL)
DESCRIPTION:Cynthia leads after-dinner games each Wednesday evening in the Autumn Lake Household. All residents are welcome.
URL:https://www.pioneercare.org/event/games-w-cynthia-al/2026-08-12/
LOCATION:Autumn Lake\, 1131 Mabelle Avenue S\, Fergus Falls\, MN\, 56537\, United States
END:VEVENT
BEGIN:VEVENT
DTSTART;TZID=America/Chicago:20260819T180000
DTEND;TZID=America/Chicago:20260819T190000
DTSTAMP:20260423T050741
CREATED:20180717T212915Z
LAST-MODIFIED:20181101T212512Z
UID:10009463-1787162400-1787166000@www.pioneercare.org
SUMMARY:Pokeno (AL)
DESCRIPTION:Cynthia leads after-dinner games each Wednesday evening in the Autumn Lake Household. All residents are welcome.
URL:https://www.pioneercare.org/event/games-w-cynthia-al/2026-08-19/
LOCATION:Autumn Lake\, 1131 Mabelle Avenue S\, Fergus Falls\, MN\, 56537\, United States
END:VEVENT
BEGIN:VEVENT
DTSTART;TZID=America/Chicago:20260826T180000
DTEND;TZID=America/Chicago:20260826T190000
DTSTAMP:20260423T050741
CREATED:20180717T212915Z
LAST-MODIFIED:20181101T212512Z
UID:10009464-1787767200-1787770800@www.pioneercare.org
SUMMARY:Pokeno (AL)
DESCRIPTION:Cynthia leads after-dinner games each Wednesday evening in the Autumn Lake Household. All residents are welcome.
URL:https://www.pioneercare.org/event/games-w-cynthia-al/2026-08-26/
LOCATION:Autumn Lake\, 1131 Mabelle Avenue S\, Fergus Falls\, MN\, 56537\, United States
END:VEVENT
BEGIN:VEVENT
DTSTART;TZID=America/Chicago:20260902T180000
DTEND;TZID=America/Chicago:20260902T190000
DTSTAMP:20260423T050741
CREATED:20180717T212915Z
LAST-MODIFIED:20181101T212512Z
UID:10009465-1788372000-1788375600@www.pioneercare.org
SUMMARY:Pokeno (AL)
DESCRIPTION:Cynthia leads after-dinner games each Wednesday evening in the Autumn Lake Household. All residents are welcome.
URL:https://www.pioneercare.org/event/games-w-cynthia-al/2026-09-02/
LOCATION:Autumn Lake\, 1131 Mabelle Avenue S\, Fergus Falls\, MN\, 56537\, United States
END:VEVENT
BEGIN:VEVENT
DTSTART;TZID=America/Chicago:20260909T180000
DTEND;TZID=America/Chicago:20260909T190000
DTSTAMP:20260423T050741
CREATED:20180717T212915Z
LAST-MODIFIED:20181101T212512Z
UID:10009466-1788976800-1788980400@www.pioneercare.org
SUMMARY:Pokeno (AL)
DESCRIPTION:Cynthia leads after-dinner games each Wednesday evening in the Autumn Lake Household. All residents are welcome.
URL:https://www.pioneercare.org/event/games-w-cynthia-al/2026-09-09/
LOCATION:Autumn Lake\, 1131 Mabelle Avenue S\, Fergus Falls\, MN\, 56537\, United States
END:VEVENT
BEGIN:VEVENT
DTSTART;TZID=America/Chicago:20260916T180000
DTEND;TZID=America/Chicago:20260916T190000
DTSTAMP:20260423T050741
CREATED:20180717T212915Z
LAST-MODIFIED:20181101T212512Z
UID:10009467-1789581600-1789585200@www.pioneercare.org
SUMMARY:Pokeno (AL)
DESCRIPTION:Cynthia leads after-dinner games each Wednesday evening in the Autumn Lake Household. All residents are welcome.
URL:https://www.pioneercare.org/event/games-w-cynthia-al/2026-09-16/
LOCATION:Autumn Lake\, 1131 Mabelle Avenue S\, Fergus Falls\, MN\, 56537\, United States
END:VEVENT
BEGIN:VEVENT
DTSTART;TZID=America/Chicago:20260923T180000
DTEND;TZID=America/Chicago:20260923T190000
DTSTAMP:20260423T050741
CREATED:20180717T212915Z
LAST-MODIFIED:20181101T212512Z
UID:10009468-1790186400-1790190000@www.pioneercare.org
SUMMARY:Pokeno (AL)
DESCRIPTION:Cynthia leads after-dinner games each Wednesday evening in the Autumn Lake Household. All residents are welcome.
URL:https://www.pioneercare.org/event/games-w-cynthia-al/2026-09-23/
LOCATION:Autumn Lake\, 1131 Mabelle Avenue S\, Fergus Falls\, MN\, 56537\, United States
END:VEVENT
BEGIN:VEVENT
DTSTART;TZID=America/Chicago:20260930T180000
DTEND;TZID=America/Chicago:20260930T190000
DTSTAMP:20260423T050741
CREATED:20180717T212915Z
LAST-MODIFIED:20181101T212512Z
UID:10009469-1790791200-1790794800@www.pioneercare.org
SUMMARY:Pokeno (AL)
DESCRIPTION:Cynthia leads after-dinner games each Wednesday evening in the Autumn Lake Household. All residents are welcome.
URL:https://www.pioneercare.org/event/games-w-cynthia-al/2026-09-30/
LOCATION:Autumn Lake\, 1131 Mabelle Avenue S\, Fergus Falls\, MN\, 56537\, United States
END:VEVENT
BEGIN:VEVENT
DTSTART;TZID=America/Chicago:20261007T180000
DTEND;TZID=America/Chicago:20261007T190000
DTSTAMP:20260423T050741
CREATED:20180717T212915Z
LAST-MODIFIED:20181101T212512Z
UID:10009470-1791396000-1791399600@www.pioneercare.org
SUMMARY:Pokeno (AL)
DESCRIPTION:Cynthia leads after-dinner games each Wednesday evening in the Autumn Lake Household. All residents are welcome.
URL:https://www.pioneercare.org/event/games-w-cynthia-al/2026-10-07/
LOCATION:Autumn Lake\, 1131 Mabelle Avenue S\, Fergus Falls\, MN\, 56537\, United States
END:VEVENT
BEGIN:VEVENT
DTSTART;TZID=America/Chicago:20261014T180000
DTEND;TZID=America/Chicago:20261014T190000
DTSTAMP:20260423T050741
CREATED:20180717T212915Z
LAST-MODIFIED:20181101T212512Z
UID:10009471-1792000800-1792004400@www.pioneercare.org
SUMMARY:Pokeno (AL)
DESCRIPTION:Cynthia leads after-dinner games each Wednesday evening in the Autumn Lake Household. All residents are welcome.
URL:https://www.pioneercare.org/event/games-w-cynthia-al/2026-10-14/
LOCATION:Autumn Lake\, 1131 Mabelle Avenue S\, Fergus Falls\, MN\, 56537\, United States
END:VEVENT
BEGIN:VEVENT
DTSTART;TZID=America/Chicago:20261021T180000
DTEND;TZID=America/Chicago:20261021T190000
DTSTAMP:20260423T050741
CREATED:20180717T212915Z
LAST-MODIFIED:20181101T212512Z
UID:10009472-1792605600-1792609200@www.pioneercare.org
SUMMARY:Pokeno (AL)
DESCRIPTION:Cynthia leads after-dinner games each Wednesday evening in the Autumn Lake Household. All residents are welcome.
URL:https://www.pioneercare.org/event/games-w-cynthia-al/2026-10-21/
LOCATION:Autumn Lake\, 1131 Mabelle Avenue S\, Fergus Falls\, MN\, 56537\, United States
END:VEVENT
BEGIN:VEVENT
DTSTART;TZID=America/Chicago:20261028T180000
DTEND;TZID=America/Chicago:20261028T190000
DTSTAMP:20260423T050741
CREATED:20180717T212915Z
LAST-MODIFIED:20181101T212512Z
UID:10009473-1793210400-1793214000@www.pioneercare.org
SUMMARY:Pokeno (AL)
DESCRIPTION:Cynthia leads after-dinner games each Wednesday evening in the Autumn Lake Household. All residents are welcome.
URL:https://www.pioneercare.org/event/games-w-cynthia-al/2026-10-28/
LOCATION:Autumn Lake\, 1131 Mabelle Avenue S\, Fergus Falls\, MN\, 56537\, United States
END:VEVENT
BEGIN:VEVENT
DTSTART;TZID=America/Chicago:20261104T180000
DTEND;TZID=America/Chicago:20261104T190000
DTSTAMP:20260423T050741
CREATED:20180717T212915Z
LAST-MODIFIED:20181101T212512Z
UID:10009474-1793815200-1793818800@www.pioneercare.org
SUMMARY:Pokeno (AL)
DESCRIPTION:Cynthia leads after-dinner games each Wednesday evening in the Autumn Lake Household. All residents are welcome.
URL:https://www.pioneercare.org/event/games-w-cynthia-al/2026-11-04/
LOCATION:Autumn Lake\, 1131 Mabelle Avenue S\, Fergus Falls\, MN\, 56537\, United States
END:VEVENT
BEGIN:VEVENT
DTSTART;TZID=America/Chicago:20261111T180000
DTEND;TZID=America/Chicago:20261111T190000
DTSTAMP:20260423T050741
CREATED:20180717T212915Z
LAST-MODIFIED:20181101T212512Z
UID:10009475-1794420000-1794423600@www.pioneercare.org
SUMMARY:Pokeno (AL)
DESCRIPTION:Cynthia leads after-dinner games each Wednesday evening in the Autumn Lake Household. All residents are welcome.
URL:https://www.pioneercare.org/event/games-w-cynthia-al/2026-11-11/
LOCATION:Autumn Lake\, 1131 Mabelle Avenue S\, Fergus Falls\, MN\, 56537\, United States
END:VEVENT
BEGIN:VEVENT
DTSTART;TZID=America/Chicago:20261118T180000
DTEND;TZID=America/Chicago:20261118T190000
DTSTAMP:20260423T050741
CREATED:20180717T212915Z
LAST-MODIFIED:20181101T212512Z
UID:10009476-1795024800-1795028400@www.pioneercare.org
SUMMARY:Pokeno (AL)
DESCRIPTION:Cynthia leads after-dinner games each Wednesday evening in the Autumn Lake Household. All residents are welcome.
URL:https://www.pioneercare.org/event/games-w-cynthia-al/2026-11-18/
LOCATION:Autumn Lake\, 1131 Mabelle Avenue S\, Fergus Falls\, MN\, 56537\, United States
END:VEVENT
END:VCALENDAR