BEGIN:VCALENDAR
VERSION:2.0
PRODID:-//PioneerCare - ECPv6.15.20//NONSGML v1.0//EN
CALSCALE:GREGORIAN
METHOD:PUBLISH
X-WR-CALNAME:PioneerCare
X-ORIGINAL-URL:https://www.pioneercare.org
X-WR-CALDESC:Events for PioneerCare
REFRESH-INTERVAL;VALUE=DURATION:PT1H
X-Robots-Tag:noindex
X-PUBLISHED-TTL:PT1H
BEGIN:VTIMEZONE
TZID:America/Chicago
BEGIN:DAYLIGHT
TZOFFSETFROM:-0600
TZOFFSETTO:-0500
TZNAME:CDT
DTSTART:20250309T080000
END:DAYLIGHT
BEGIN:STANDARD
TZOFFSETFROM:-0500
TZOFFSETTO:-0600
TZNAME:CST
DTSTART:20251102T070000
END:STANDARD
BEGIN:DAYLIGHT
TZOFFSETFROM:-0600
TZOFFSETTO:-0500
TZNAME:CDT
DTSTART:20260308T080000
END:DAYLIGHT
BEGIN:STANDARD
TZOFFSETFROM:-0500
TZOFFSETTO:-0600
TZNAME:CST
DTSTART:20261101T070000
END:STANDARD
BEGIN:DAYLIGHT
TZOFFSETFROM:-0600
TZOFFSETTO:-0500
TZNAME:CDT
DTSTART:20270314T080000
END:DAYLIGHT
BEGIN:STANDARD
TZOFFSETFROM:-0500
TZOFFSETTO:-0600
TZNAME:CST
DTSTART:20271107T070000
END:STANDARD
END:VTIMEZONE
BEGIN:VEVENT
DTSTART;TZID=America/Chicago:20260323T150000
DTEND;TZID=America/Chicago:20260323T160000
DTSTAMP:20260422T070043
CREATED:20190130T195226Z
LAST-MODIFIED:20190130T195226Z
UID:10011494-1774278000-1774281600@www.pioneercare.org
SUMMARY:Music in the CC
DESCRIPTION:Join us for live music in PioneerCare’s Celebration Center and Garden Court each Monday from 3:00 pm to 4:00 pm. See DC & Hawk\, Music with Roger\, Country Rose Band\, and others.
URL:https://www.pioneercare.org/event/music-in-the-cc/2026-03-23/
END:VEVENT
BEGIN:VEVENT
DTSTART;TZID=America/Chicago:20260323T183000
DTEND;TZID=America/Chicago:20260323T193000
DTSTAMP:20260422T070043
CREATED:20190304T164856Z
LAST-MODIFIED:20250902T125743Z
UID:10012384-1774290600-1774294200@www.pioneercare.org
SUMMARY:Lions Bingo-GC
DESCRIPTION:The Lions Club hosts Bingo in PioneerCare’s Garden Court on the fourth Tuesday of the month. Join us!
URL:https://www.pioneercare.org/event/lions-bingo-2/2026-03-23/
END:VEVENT
END:VCALENDAR